BEGIN:VCALENDAR
VERSION:2.0
PRODID:-//Sieberts Whiskywelt - ECPv6.15.18//NONSGML v1.0//EN
CALSCALE:GREGORIAN
METHOD:PUBLISH
X-ORIGINAL-URL:https://sieberts-whiskywelt.de
X-WR-CALDESC:Veranstaltungen für Sieberts Whiskywelt
REFRESH-INTERVAL;VALUE=DURATION:PT1H
X-Robots-Tag:noindex
X-PUBLISHED-TTL:PT1H
BEGIN:VTIMEZONE
TZID:Europe/Berlin
BEGIN:DAYLIGHT
TZOFFSETFROM:+0100
TZOFFSETTO:+0200
TZNAME:CEST
DTSTART:20220327T010000
END:DAYLIGHT
BEGIN:STANDARD
TZOFFSETFROM:+0200
TZOFFSETTO:+0100
TZNAME:CET
DTSTART:20221030T010000
END:STANDARD
BEGIN:DAYLIGHT
TZOFFSETFROM:+0100
TZOFFSETTO:+0200
TZNAME:CEST
DTSTART:20230326T010000
END:DAYLIGHT
BEGIN:STANDARD
TZOFFSETFROM:+0200
TZOFFSETTO:+0100
TZNAME:CET
DTSTART:20231029T010000
END:STANDARD
BEGIN:DAYLIGHT
TZOFFSETFROM:+0100
TZOFFSETTO:+0200
TZNAME:CEST
DTSTART:20240331T010000
END:DAYLIGHT
BEGIN:STANDARD
TZOFFSETFROM:+0200
TZOFFSETTO:+0100
TZNAME:CET
DTSTART:20241027T010000
END:STANDARD
END:VTIMEZONE
BEGIN:VEVENT
DTSTART;TZID=Europe/Berlin:20230701T190000
DTEND;TZID=Europe/Berlin:20230701T220000
DTSTAMP:20260420T143222
CREATED:20230509T132107Z
LAST-MODIFIED:20230515T103506Z
UID:7087-1688238000-1688248800@sieberts-whiskywelt.de
SUMMARY:Masterclass mit Tilo Schnabel von The Caskhound @ Sieberts Whiskywelt
DESCRIPTION:Die „Spürnase für feinen Whisky“ – besser bekannt als Tilo Schnabel – Gründer\, Chef und Inhaber des unabhängigen Abfüllers „The Caskhound“ kommt erneut für eine exklusive Masterclass in unsere Whiskywelt. \nPräsentieren wird er uns ein spannendes Lineup seiner neuesten Abfüllungen. Freut Euch auf einen gemütlichen Abend in entspannter Atmosphäre mit leckeren Drams und tollen Geschichten rund um das Wasser des Lebens \nWie gewohnt wird das Lineup aus 7 Drams à 2cl bestehen.  \nAuch für Euer leibliches Wohl ist wie immer bestens gesorgt\, in Form unserer beliebten kalten Snackplatten mit leckerem Fingerfood. Dazu reichen wir frisches Baguette und reichlich stilles Wasser. \nJedoch steht nur eine begrenzte Anzahl an Plätzen zur Verfügung\, deshalb klickt am besten gleich auf den Link zur Buchung und sichert Euch Eure Plätze. ☺️ \nBei nicht erscheinen stellen wir die verkosteten Whiskys\, abgefüllt in Miniaturfläschchen\, mit allen Informationen zur Verfügung. \nEine Rückerstattung oder Terminverschiebung ist nicht möglich!
URL:https://sieberts-whiskywelt.de/events/masterclass-mit-tilo-schnabel-von-the-caskhound-sieberts-whiskywelt-2/
LOCATION:Sieberts Whiskywelt\, Bodenstedtstraße 15\, München-Pasing\, 81245\, Deutschland
CATEGORIES:Öffentlich,Seminare,Tasting
ATTACH;FMTTYPE=image/jpeg:https://sieberts-whiskywelt.de/wp-content/uploads/2023/05/cask.jpeg
ORGANIZER;CN="Sieberts Whiskywelt":MAILTO:shop@sieberts-whiskywelt.de
END:VEVENT
END:VCALENDAR