BEGIN:VCALENDAR
VERSION:2.0
PRODID:-//Sieberts Whiskywelt - ECPv6.15.18//NONSGML v1.0//EN
CALSCALE:GREGORIAN
METHOD:PUBLISH
X-ORIGINAL-URL:https://sieberts-whiskywelt.de
X-WR-CALDESC:Veranstaltungen für Sieberts Whiskywelt
REFRESH-INTERVAL;VALUE=DURATION:PT1H
X-Robots-Tag:noindex
X-PUBLISHED-TTL:PT1H
BEGIN:VTIMEZONE
TZID:Europe/Berlin
BEGIN:DAYLIGHT
TZOFFSETFROM:+0100
TZOFFSETTO:+0200
TZNAME:CEST
DTSTART:20220327T010000
END:DAYLIGHT
BEGIN:STANDARD
TZOFFSETFROM:+0200
TZOFFSETTO:+0100
TZNAME:CET
DTSTART:20221030T010000
END:STANDARD
BEGIN:DAYLIGHT
TZOFFSETFROM:+0100
TZOFFSETTO:+0200
TZNAME:CEST
DTSTART:20230326T010000
END:DAYLIGHT
BEGIN:STANDARD
TZOFFSETFROM:+0200
TZOFFSETTO:+0100
TZNAME:CET
DTSTART:20231029T010000
END:STANDARD
BEGIN:DAYLIGHT
TZOFFSETFROM:+0100
TZOFFSETTO:+0200
TZNAME:CEST
DTSTART:20240331T010000
END:DAYLIGHT
BEGIN:STANDARD
TZOFFSETFROM:+0200
TZOFFSETTO:+0100
TZNAME:CET
DTSTART:20241027T010000
END:STANDARD
END:VTIMEZONE
BEGIN:VEVENT
DTSTART;TZID=Europe/Berlin:20231013T190000
DTEND;TZID=Europe/Berlin:20231013T220000
DTSTAMP:20260420T181951
CREATED:20230921T152100Z
LAST-MODIFIED:20231011T134259Z
UID:7120-1697223600-1697234400@sieberts-whiskywelt.de
SUMMARY:Prineus Masterclass mit Brand Ambassador Bastian Denkler
DESCRIPTION:Den Anfang im Oktober macht gleich mal unser lieber Bastian Denkler! \nIn seiner neuen Funktion als Brand Ambassador für die Prineus GmbH\, einem großen deutschen Importeur zahlreicher namhafter Abfüller und Produzenten\, werden wir Ihn an diesem Freitagabend rechtherzlich in unserer Whiskywelt begrüßen dürfen. \nZum breit gefächerten Prineus-Markenportfolio gehören natürlich auch einige Hochkaräter und klangvolle Namen aus der schottischen Whiskybranche\, wie beispielsweise J.G. Thomson\, Firkin Whisky\, Toiseach Orra\, Dràm Mòr\, Single Cask Nation\, Compass Box\, Fable Whisky\, Finn Thomson oder auch die Lindores Abbey Distillery. \nAus diesem feinen Sortiment werden wir Euch also definitiv ein erstklassiges Lineup mit 7 fassstarken Drams á 2cl zaubern\, auf welches Ihr Euch jetzt schon richtig freuen könnt \nAuch für Euer leibliches Wohl ist wie immer bestens gesorgt\, in Form unserer beliebten kalten Snackplatten mit leckerem Fingerfood. Dazu reichen wir frisches Baguette und reichlich stilles Wasser. \nJedoch steht nur eine begrenzte Anzahl an Plätzen zur Verfügung\, deshalb klickt am besten gleich auf den Link zur Buchung und sichert Euch Eure Plätze. ☺️ \nBei nicht erscheinen stellen wir die verkosteten Whiskys\, abgefüllt in Miniaturfläschchen\, mit allen Informationen zur Verfügung. \nEine Rückerstattung oder Terminverschiebung ist nicht möglich!
URL:https://sieberts-whiskywelt.de/events/prineus-masterclass-mit-bastian-denkler/
LOCATION:Sieberts Whiskywelt\, Bodenstedtstraße 15\, München-Pasing\, 81245\, Deutschland
CATEGORIES:Öffentlich,Seminare,Tasting
ATTACH;FMTTYPE=image/png:https://sieberts-whiskywelt.de/wp-content/uploads/2023/09/IMG_6013.png
END:VEVENT
END:VCALENDAR