BEGIN:VCALENDAR
VERSION:2.0
PRODID:-//Sieberts Whiskywelt - ECPv6.15.18//NONSGML v1.0//EN
CALSCALE:GREGORIAN
METHOD:PUBLISH
X-ORIGINAL-URL:https://sieberts-whiskywelt.de
X-WR-CALDESC:Veranstaltungen für Sieberts Whiskywelt
REFRESH-INTERVAL;VALUE=DURATION:PT1H
X-Robots-Tag:noindex
X-PUBLISHED-TTL:PT1H
BEGIN:VTIMEZONE
TZID:Europe/Berlin
BEGIN:DAYLIGHT
TZOFFSETFROM:+0100
TZOFFSETTO:+0200
TZNAME:CEST
DTSTART:20220327T010000
END:DAYLIGHT
BEGIN:STANDARD
TZOFFSETFROM:+0200
TZOFFSETTO:+0100
TZNAME:CET
DTSTART:20221030T010000
END:STANDARD
BEGIN:DAYLIGHT
TZOFFSETFROM:+0100
TZOFFSETTO:+0200
TZNAME:CEST
DTSTART:20230326T010000
END:DAYLIGHT
BEGIN:STANDARD
TZOFFSETFROM:+0200
TZOFFSETTO:+0100
TZNAME:CET
DTSTART:20231029T010000
END:STANDARD
BEGIN:DAYLIGHT
TZOFFSETFROM:+0100
TZOFFSETTO:+0200
TZNAME:CEST
DTSTART:20240331T010000
END:DAYLIGHT
BEGIN:STANDARD
TZOFFSETFROM:+0200
TZOFFSETTO:+0100
TZNAME:CET
DTSTART:20241027T010000
END:STANDARD
END:VTIMEZONE
BEGIN:VEVENT
DTSTART;TZID=Europe/Berlin:20231104T190000
DTEND;TZID=Europe/Berlin:20231104T220000
DTSTAMP:20260422T115723
CREATED:20230927T161043Z
LAST-MODIFIED:20231018T171418Z
UID:7144-1699124400-1699135200@sieberts-whiskywelt.de
SUMMARY:The Whisky Chamber Masterclass mit Thomas Ide
DESCRIPTION:Alle Jahre wieder…. \nauch dieses Jahr ist unsere Freude riesengroß\, da wir das Tasting mit unserem lieben Thomas verkünden dürfen!\nWie immer sind die Abende mit Thomas nicht nur mit tollen Whiskys bestückt\, es gibt auch wunderbare\, interessante und amüsante „Gschichten aus dem Ide Erlebnis Garten!“ \nParallel dazu verkosten wir die 7 neuesten Abfüllungen aus dem diesjährigen Herbstbottling seiner Marke The Whisky Chamber\, natürlich inklusive der 2 bis 3 ganz besonderen Tasting only Abfüllungen! 😜 \nAuch für Euer leibliches Wohl ist wie immer bestens gesorgt\, in Form unserer beliebten kalten Snackplatten mit leckerem Fingerfood. Dazu reichen wir frisches Baguette und reichlich stilles Wasser. \nJedoch steht nur eine begrenzte Anzahl an Plätzen zur Verfügung\, deshalb klickt am besten gleich auf den Link zur Buchung und sichert Euch Eure Plätze. ☺️ \nBei nicht erscheinen stellen wir die verkosteten Whiskys\, abgefüllt in Miniaturfläschchen\, mit allen Informationen zur Verfügung. \nEine Rückerstattung oder Terminverschiebung ist nicht möglich!
URL:https://sieberts-whiskywelt.de/events/pre-christmas-tasting-mit-thomas-ide-2/
LOCATION:Sieberts Whiskywelt\, Bodenstedtstraße 15\, München-Pasing\, 81245\, Deutschland
CATEGORIES:Öffentlich,Seminare,Tasting
ATTACH;FMTTYPE=image/jpeg:https://sieberts-whiskywelt.de/wp-content/uploads/2021/09/TWC.jpeg
END:VEVENT
END:VCALENDAR