BEGIN:VCALENDAR
VERSION:2.0
PRODID:-//Sieberts Whiskywelt - ECPv6.15.18//NONSGML v1.0//EN
CALSCALE:GREGORIAN
METHOD:PUBLISH
X-WR-CALNAME:Sieberts Whiskywelt
X-ORIGINAL-URL:https://sieberts-whiskywelt.de
X-WR-CALDESC:Veranstaltungen für Sieberts Whiskywelt
REFRESH-INTERVAL;VALUE=DURATION:PT1H
X-Robots-Tag:noindex
X-PUBLISHED-TTL:PT1H
BEGIN:VTIMEZONE
TZID:Europe/Berlin
BEGIN:DAYLIGHT
TZOFFSETFROM:+0100
TZOFFSETTO:+0200
TZNAME:CEST
DTSTART:20230326T010000
END:DAYLIGHT
BEGIN:STANDARD
TZOFFSETFROM:+0200
TZOFFSETTO:+0100
TZNAME:CET
DTSTART:20231029T010000
END:STANDARD
BEGIN:DAYLIGHT
TZOFFSETFROM:+0100
TZOFFSETTO:+0200
TZNAME:CEST
DTSTART:20240331T010000
END:DAYLIGHT
BEGIN:STANDARD
TZOFFSETFROM:+0200
TZOFFSETTO:+0100
TZNAME:CET
DTSTART:20241027T010000
END:STANDARD
BEGIN:DAYLIGHT
TZOFFSETFROM:+0100
TZOFFSETTO:+0200
TZNAME:CEST
DTSTART:20250330T010000
END:DAYLIGHT
BEGIN:STANDARD
TZOFFSETFROM:+0200
TZOFFSETTO:+0100
TZNAME:CET
DTSTART:20251026T010000
END:STANDARD
END:VTIMEZONE
BEGIN:VEVENT
DTSTART;TZID=Europe/Berlin:20240306T190000
DTEND;TZID=Europe/Berlin:20240306T220000
DTSTAMP:20260420T115934
CREATED:20240208T205746Z
LAST-MODIFIED:20240209T201256Z
UID:7197-1709751600-1709762400@sieberts-whiskywelt.de
SUMMARY:Duncan Taylor Masterclass mit Brand Ambassador Fergus Simpson und Michel Reick
DESCRIPTION:Niemand geringeres als unser aller Whisky Druide Michel Reick (Best Dram\, Scotch Universe & The Old Friends) von Kirsch Import wird im Vorfeld der Nürnberger Whiskymesse The Village zusammen mit Fergus Simpson\, dem Global Brand Ambassador von Duncan Taylor\, auf exklusiver Tasting Tour durch Bayern unterwegs sein. Es freut uns wirklich ungemein\, dass Sie auch in unserer Whiskywelt Station machen! Stellt Euch ein auf eine äußerst interessante Reise durch die spannende Welt toller Abfüllungen sowie auch auf die langjährige Geschichte des renommierten Independent Bottlers Duncan Taylor aus Huntly/Schottland. Fergus Simpson ist ein wandelndes Whiskylexikon und ein Meister seines Fachs. Kompetent und humorvoll wie er ist\, werden wir an diesem Abend garantiert eine Menge Spaß mit Ihm haben. Unser großartiges Lineup für dieses spezielle Event startet mit dem überaus beliebten Black Bull 12yo als Welcome-Dram\, bevor wir uns dann ausgiebig 7 fassstarken Single Cask Bottlings aus dem Hause Duncan Taylor widmen. Wir beginnen unsere kleine Rundreise durch Schottland in der Speyside\, bewegen uns anschließend weiter über die Highlands bis rüber auf die Isle of Islay. Eines ist jedoch gewiss: Es wird uns ein riesengroßes Fest\, seid also unbedingt mit dabei! \n Die Veranstaltung findet in englischer und deutscher Sprache statt. \nAuch für Euer leibliches Wohl ist wie immer bestens gesorgt\, in Form unserer beliebten kalten Snackplatten mit leckerem Fingerfood. Dazu reichen wir frisches Baguette und reichlich stilles Wasser. \nJedoch steht nur eine begrenzte Anzahl an Plätzen zur Verfügung\, deshalb klickt am besten gleich auf den Link zur Buchung und sichert Euch Eure Plätze. ☺️ \nBei nicht erscheinen stellen wir die verkosteten Whiskys\, abgefüllt in Miniaturfläschchen\, mit allen Informationen zur Verfügung. \nEine Rückerstattung oder Terminverschiebung ist nicht möglich!
URL:https://sieberts-whiskywelt.de/events/duncan-taylor-masterclass-mit-brand-ambassador-fergus-simpson/
LOCATION:Sieberts Whiskywelt\, Bodenstedtstraße 15\, München-Pasing\, 81245\, Deutschland
CATEGORIES:Öffentlich,Seminare,Tasting
ATTACH;FMTTYPE=image/jpeg:https://sieberts-whiskywelt.de/wp-content/uploads/2024/02/d00e29fc-9b24-4530-b513-9f86587eeaf2.jpeg
ORGANIZER;CN="Sieberts Whiskywelt":MAILTO:shop@sieberts-whiskywelt.de
END:VEVENT
END:VCALENDAR