BEGIN:VCALENDAR
VERSION:2.0
PRODID:-//Sieberts Whiskywelt - ECPv6.15.18//NONSGML v1.0//EN
CALSCALE:GREGORIAN
METHOD:PUBLISH
X-ORIGINAL-URL:https://sieberts-whiskywelt.de
X-WR-CALDESC:Veranstaltungen für Sieberts Whiskywelt
REFRESH-INTERVAL;VALUE=DURATION:PT1H
X-Robots-Tag:noindex
X-PUBLISHED-TTL:PT1H
BEGIN:VTIMEZONE
TZID:Europe/Berlin
BEGIN:DAYLIGHT
TZOFFSETFROM:+0100
TZOFFSETTO:+0200
TZNAME:CEST
DTSTART:20240331T010000
END:DAYLIGHT
BEGIN:STANDARD
TZOFFSETFROM:+0200
TZOFFSETTO:+0100
TZNAME:CET
DTSTART:20241027T010000
END:STANDARD
BEGIN:DAYLIGHT
TZOFFSETFROM:+0100
TZOFFSETTO:+0200
TZNAME:CEST
DTSTART:20250330T010000
END:DAYLIGHT
BEGIN:STANDARD
TZOFFSETFROM:+0200
TZOFFSETTO:+0100
TZNAME:CET
DTSTART:20251026T010000
END:STANDARD
BEGIN:DAYLIGHT
TZOFFSETFROM:+0100
TZOFFSETTO:+0200
TZNAME:CEST
DTSTART:20260329T010000
END:DAYLIGHT
BEGIN:STANDARD
TZOFFSETFROM:+0200
TZOFFSETTO:+0100
TZNAME:CET
DTSTART:20261025T010000
END:STANDARD
END:VTIMEZONE
BEGIN:VEVENT
DTSTART;TZID=Europe/Berlin:20251120T190000
DTEND;TZID=Europe/Berlin:20251120T220000
DTSTAMP:20260421T102911
CREATED:20250914T164834Z
LAST-MODIFIED:20250914T164834Z
UID:7680-1763665200-1763676000@sieberts-whiskywelt.de
SUMMARY:Torabhaig Masterclass mit Global Brand Ambassador Stewart Dick
DESCRIPTION:Isle of Skye „well-tempered peat“ – Single Malt Scotch Whisky at its best! \nWir freuen uns\, den Global Brand Ambassador Stewart Dick in unserer Whiskywelt begrüßen zu dürfen. Direkt von der Isle of Skye bringt er die komplette Legacy Series mit – eine einmalige Gelegenheit\, Torabhaig in seiner ganzen Entwicklung zu erleben. \nIm Line-up enthalten sind: \n\nInaugural Release\nAllt Gleann\nAllt Gleann – Batch Strength\nCnoc Na Mòine\nSound of Sleat\nSound of Sleat – Batch Strength\nDistillery Reserve – Single Cask\n\nDie Veranstaltung findet in englischer Sprache statt. \nDazu servieren wir wie immer unsere beliebten Snackplatten\, frisches Baguette und reichlich stilles Wasser. \n  \nAlle Ticketpreise sind in Euro (€) zu verstehen\, auch wenn auf der Buchungsseite das Dollarzeichen ($) angezeigt wird. \n  \nFür Veranstaltungen gilt: Gekaufte Tickets sind übertragbar\, können aber weder zurückgenommen noch umgetauscht werden; dies gilt auch bei einer Buchung mit Gutschein. Solltet ihr verhindert sein und keine Ersatzperson schicken können\, erhaltet ihr die verkosteten Whiskys in Miniaturfläschchen inkl. Infos. Eine Rückerstattung oder Umbuchung ist ausgeschlossen.
URL:https://sieberts-whiskywelt.de/events/torabhaig-masterclass-mit-global-brand-ambassador-stewart-dick/
LOCATION:Sieberts Whiskywelt\, Bodenstedtstraße 15\, München-Pasing\, 81245\, Deutschland
CATEGORIES:Öffentlich,Seminare,Tasting
ATTACH;FMTTYPE=image/jpeg:https://sieberts-whiskywelt.de/wp-content/uploads/2025/09/b44cdd22-ec4f-44fa-bae3-c47f5ac75f05.jpeg
ORGANIZER;CN="Sieberts Whiskywelt":MAILTO:shop@sieberts-whiskywelt.de
END:VEVENT
END:VCALENDAR